BEGIN:VCALENDAR
VERSION:2.0
PRODID:-//GHACC | Greater Haitian American Chamber of Commerce - ECPv6.15.20//NONSGML v1.0//EN
CALSCALE:GREGORIAN
METHOD:PUBLISH
X-ORIGINAL-URL:https://ghacc.org
X-WR-CALDESC:Events for GHACC | Greater Haitian American Chamber of Commerce
REFRESH-INTERVAL;VALUE=DURATION:PT1H
X-Robots-Tag:noindex
X-PUBLISHED-TTL:PT1H
BEGIN:VTIMEZONE
TZID:America/New_York
BEGIN:DAYLIGHT
TZOFFSETFROM:-0500
TZOFFSETTO:-0400
TZNAME:EDT
DTSTART:20240310T070000
END:DAYLIGHT
BEGIN:STANDARD
TZOFFSETFROM:-0400
TZOFFSETTO:-0500
TZNAME:EST
DTSTART:20241103T060000
END:STANDARD
BEGIN:DAYLIGHT
TZOFFSETFROM:-0500
TZOFFSETTO:-0400
TZNAME:EDT
DTSTART:20250309T070000
END:DAYLIGHT
BEGIN:STANDARD
TZOFFSETFROM:-0400
TZOFFSETTO:-0500
TZNAME:EST
DTSTART:20251102T060000
END:STANDARD
BEGIN:DAYLIGHT
TZOFFSETFROM:-0500
TZOFFSETTO:-0400
TZNAME:EDT
DTSTART:20260308T070000
END:DAYLIGHT
BEGIN:STANDARD
TZOFFSETFROM:-0400
TZOFFSETTO:-0500
TZNAME:EST
DTSTART:20261101T060000
END:STANDARD
BEGIN:DAYLIGHT
TZOFFSETFROM:-0500
TZOFFSETTO:-0400
TZNAME:EDT
DTSTART:20270314T070000
END:DAYLIGHT
BEGIN:STANDARD
TZOFFSETFROM:-0400
TZOFFSETTO:-0500
TZNAME:EST
DTSTART:20271107T060000
END:STANDARD
END:VTIMEZONE
BEGIN:VEVENT
DTSTART;TZID=America/New_York:20250923T180000
DTEND;TZID=America/New_York:20250923T200000
DTSTAMP:20260420T165353
CREATED:20250226T211954Z
LAST-MODIFIED:20250226T211954Z
UID:10000362-1758650400-1758657600@ghacc.org
SUMMARY:"Understanding Contracts: Essential Skills for Entrepreneurs" at GHACC Academy
DESCRIPTION:Join us for an informative workshop on Contracts at the National Entrepreneur Center (NEC)! This event is tailored for entrepreneurs\, business owners\, and professionals who want to navigate the complexities of contracts with confidence and clarity. \nAbout the Workshop: \nContracts are foundational to any successful business relationship. This workshop will cover key aspects of contracts\, including: \nUnderstanding Contract Basics: Learn the essential components of a contract and the legal principles that govern them. \nDrafting Effective Contracts: Discover best practices for creating clear\, concise\, and enforceable contracts that protect your interests. \nNegotiation Techniques: Gain insights into effective negotiation strategies to ensure favorable terms and conditions. \nCommon Pitfalls: Identify common mistakes and pitfalls in contract management\, and learn how to avoid them. \nWho Should Attend: \nEntrepreneurs and small business owners \nManagers and team leaders \nFreelancers and independent contractors \nAnyone interested in improving their contract knowledge and skills \nWhy Attend? \nAcquire practical tools and techniques to handle contracts effectively. \nNetwork with fellow professionals and share experiences. \nEngage in interactive discussions and real-world scenarios. \nDon’t miss this opportunity to enhance your understanding of contracts and protect your business interests. Reserve your free spot today! \nWe look forward to seeing you at the NEC on September 23rd for this valuable workshop!
URL:https://ghacc.org/events/understanding-contracts-essential-skills-for-entrepreneurs-at-ghacc-academy/
LOCATION:NEC – National Entrepreneur Center\, 3201 E. Colonial Drive\, Orlando\, FL\, 32803\, United States
CATEGORIES:Business Event,Educational Event,GHACC Academy,Social Event
END:VEVENT
BEGIN:VEVENT
DTSTART;TZID=America/New_York:20250924T120000
DTEND;TZID=America/New_York:20250924T150000
DTSTAMP:20260420T165353
CREATED:20250922T195022Z
LAST-MODIFIED:20250922T195022Z
UID:10000387-1758715200-1758726000@ghacc.org
SUMMARY:Job Fair Career
DESCRIPTION:This career expo is an excellent chance to explore multiple job opportunities in one place.
URL:https://ghacc.org/events/job-fair-career/
LOCATION:Pine Hills Community Center\, 6408 Jennings Rd\, Bldg. B\, Orlando\, FL\, 32818\, United States
CATEGORIES:Business Event,Career Fair
ATTACH;FMTTYPE=image/jpeg:https://ghacc.org/wp-content/uploads/2025/09/JPEG-image-400F-81C5-B2-0.jpeg
END:VEVENT
BEGIN:VEVENT
DTSTART;TZID=America/New_York:20250927T140000
DTEND;TZID=America/New_York:20250927T170000
DTSTAMP:20260420T165353
CREATED:20250812T152752Z
LAST-MODIFIED:20250812T152752Z
UID:10000380-1758981600-1758992400@ghacc.org
SUMMARY:The Juggle Is Real! Part-Time Business Bootcamp
DESCRIPTION:Balancing a 9-to-5 job while building a business is no small feat — and this free masterclass is designed to help you master that juggle. Join Corey Nery-Guity\, Brand Manager & Founder of Champion Circle Enterprise\, and Michelle Welch\, Productivity & Strategies Coach and Ops & Productivity Expert at Prima Business Agency\, for an afternoon of practical strategies\, tools\, and insights to help you grow your business without burning out. \nWhether you’re just starting your entrepreneurial journey or looking for ways to better manage your time\, this interactive session will equip you with actionable steps to maximize productivity\, sharpen your business skills\, and balance your professional and personal commitments. \nDate: Saturday\, September 27\, 2025\nTime: 2:00 PM – 5:00 PM\nLocation: National Entrepreneur Center\, 3201 E Colonial Dr Ste A-20\, Orlando\, FL 32803\nCost: Free to Attend \nDon’t miss this opportunity to learn from seasoned professionals\, connect with fellow part-time entrepreneurs\, and get inspired to take your business to the next level. \n 
URL:https://ghacc.org/events/the-juggle-is-real-part-time-business-bootcamp/
LOCATION:NEC – National Entrepreneur Center\, 3201 E. Colonial Drive\, Orlando\, FL\, 32803\, United States
CATEGORIES:Business Event
ATTACH;FMTTYPE=image/jpeg:https://ghacc.org/wp-content/uploads/2025/08/The-Juggle-Is-Real_Social-Graphic_CD-1-scaled.jpg
END:VEVENT
BEGIN:VEVENT
DTSTART;TZID=America/New_York:20251004T090000
DTEND;TZID=America/New_York:20251004T170000
DTSTAMP:20260420T165353
CREATED:20250720T223158Z
LAST-MODIFIED:20250804T165749Z
UID:10000378-1759568400-1759597200@ghacc.org
SUMMARY:Business Summit 2025
DESCRIPTION:Get ready for the ultimate Business Summit 2025 – where innovation meets collaboration!\n\n\nBusiness Summit 2025 \nWhat if one event could give you the clarity\, connections\, and confidence to take your business to the next level? This business conference is your opportunity to gain real-world insights from proven leaders across a range of industries—all ready to share strategies that can shift how you work and grow. You’ll be in the room with seasoned professionals\, influential Haitian delegates\, and like-minded entrepreneurs\, opening the door to meaningful conversations and powerful partnerships. From expert advice on business growth to practical lessons in financial literacy\, you’ll leave equipped with the tools and knowledge to make smarter decisions and scale with confidence. Whether you’re building momentum or ready to break through your next ceiling\, this event is where strategy meets opportunity.
URL:https://ghacc.org/events/business-summit-2025/
LOCATION:National Entrepreneur Center\, 3201 East Colonial Drive\, Orlando\, FL\, 32803\, United States
CATEGORIES:Business Event,Community Event,General Meeting,Networking Event
ATTACH;FMTTYPE=image/jpeg:https://ghacc.org/wp-content/uploads/2025/07/eace8ec57a0e0f278e8b5e84f112c6e7-H7EJWZ.tmp_.jpg
END:VEVENT
BEGIN:VEVENT
DTSTART;TZID=America/New_York:20251016T180000
DTEND;TZID=America/New_York:20251016T200000
DTSTAMP:20260420T165353
CREATED:20251011T105224Z
LAST-MODIFIED:20251011T111212Z
UID:10000393-1760637600-1760644800@ghacc.org
SUMMARY:Let's Connect! Networking Mixer for Entrepreneurs and Professionals
DESCRIPTION:Join us for an incredible opportunity to connect with fellow professionals in the vibrant Orlando community!\n\n\nThe Greater Haitian American Chamber of Commerce Orlando is excited to host a vibrant event that unites the city’s leaders\, entrepreneurs\, and professionals. Join us for an evening that fosters a lively social atmosphere where meaningful connections and valuable networking opportunities can flourish. \nThis event is open to all professionals eager to engage with like-minded individuals who share a passion for personal and professional growth. Whether you’re looking to expand your network\, seek mentorship\, or simply make new friends\, this is the ideal gathering for you! \nDon’t miss this chance to be part of Orlando’s dynamic young professional community. Save the date\, and get ready to forge connections\, share experiences\, and collaborate toward a brighter future together. \n  \nPlease note: All sales are final; there are no refunds.
URL:https://ghacc.org/events/lets-connect-networking-mixer-for-entrepreneurs-and-professionals-5/
LOCATION:True Island Grille\, 875 Woodbury Road\, #108\, Orlando\, FL\, 32828\, United States
CATEGORIES:Business Event,Let's Connect,Networking Event,Social Event
ATTACH;FMTTYPE=image/jpeg:https://ghacc.org/wp-content/uploads/2025/10/6bcf0b7e534f24e960db0afbfdb8837b-GFGYmg.tmp_.jpg
END:VEVENT
BEGIN:VEVENT
DTSTART;TZID=America/New_York:20251019T130000
DTEND;TZID=America/New_York:20251019T150000
DTSTAMP:20260420T165353
CREATED:20251011T103604Z
LAST-MODIFIED:20251011T104807Z
UID:10000391-1760878800-1760886000@ghacc.org
SUMMARY:Soft Opening
DESCRIPTION:Join us in celebrating the opening!
URL:https://ghacc.org/events/soft-opening/
LOCATION:Grace PharmSpa\, 7222 W Colonial Drive\, Orlando\, FL\, 32818\, United States
CATEGORIES:Business Event,Health & Wellness Event,Networking Event,Social Event
END:VEVENT
BEGIN:VEVENT
DTSTART;TZID=America/New_York:20251021T180000
DTEND;TZID=America/New_York:20251021T200000
DTSTAMP:20260420T165353
CREATED:20251011T100426Z
LAST-MODIFIED:20251011T100442Z
UID:10000389-1761069600-1761076800@ghacc.org
SUMMARY:WPBA: The AI Toolkit for Business Leaders
DESCRIPTION:You don’t need to master every tool; you just need to know what’s possible.\n• Communication & Content\n• Marketing & Creativity\n• Organization & Productivity\n• Strategy & Insights \nDon’t get left behind. Register now and transform your marketing in just one session.
URL:https://ghacc.org/events/wpba-the-ai-toolkit-for-business-leaders/
LOCATION:Winter Park Library\, 1052 W. Morse Blvd\, Winter Park\, FL\, 32789\, United States
CATEGORIES:Business Event,Community Event,Networking Event
END:VEVENT
BEGIN:VEVENT
DTSTART;TZID=America/New_York:20251028T180000
DTEND;TZID=America/New_York:20251028T200000
DTSTAMP:20260420T165353
CREATED:20250226T212342Z
LAST-MODIFIED:20250226T212417Z
UID:10000363-1761674400-1761681600@ghacc.org
SUMMARY:"Unlocking Opportunities: Business Collaborations" at GHACC Academy
DESCRIPTION:Join us for an engaging workshop on Business Collaborations at the National Entrepreneur Center (NEC)! This event is designed for entrepreneurs\, business owners\, and professionals looking to harness the power of collaboration to drive growth and innovation. \nAbout the Workshop: \nIn today’s interconnected business landscape\, effective collaborations can lead to enhanced resources\, shared expertise\, and new opportunities. This workshop will cover: \nThe Power of Collaboration: Understand the benefits of forming strategic partnerships and how they can elevate your business. \nIdentifying Potential Partners: Learn how to identify and evaluate potential collaborators that align with your business goals and values. \nBuilding Strong Relationships: Discover best practices for establishing and maintaining productive partnerships. \nNavigating Challenges: Gain insights into common challenges in collaborations and strategies for overcoming them. \nWho Should Attend: \nEntrepreneurs and small business owners \nBusiness development professionals \nTeam leaders and managers \nAnyone interested in exploring collaboration opportunities \nWhy Attend? \nAcquire practical tools and strategies to foster successful business collaborations. \nNetwork with like-minded professionals and potential partners. \nParticipate in interactive discussions and share your experiences. \nDon’t miss this opportunity to unlock new possibilities for your business through collaboration. Reserve your free spot today! \nWe look forward to seeing you at the NEC on October 28th for this inspiring workshop!
URL:https://ghacc.org/events/unlocking-opportunities-business-collaborations-at-ghacc-academy/
LOCATION:NEC – National Entrepreneur Center\, 3201 E. Colonial Drive\, Orlando\, FL\, 32803\, United States
CATEGORIES:Business Event,Educational Event,General Meeting,GHACC Academy,Networking Event
END:VEVENT
BEGIN:VEVENT
DTSTART;TZID=America/New_York:20251113T083000
DTEND;TZID=America/New_York:20251113T113000
DTSTAMP:20260420T165353
CREATED:20251109T145906Z
LAST-MODIFIED:20251109T150917Z
UID:10000399-1763022600-1763033400@ghacc.org
SUMMARY:Economic Trends for Business Leaders
DESCRIPTION:  \n2026 is coming fast — and if you’re like most business owners\, the decisions you make in Q1 will have long-tail effects. \nTo help business leaders plan with confidence (not guesswork)\, we’re hosting: \n  \n\n\n\n🎤 With Dr. Sean Snaith (UCF) and Michelle Dennard (Federal Reserve Bank of Atlanta\n\n\n\n\n\n\nThis session is designed specifically for business owners\, partners\, and operators making pricing\, hiring\, and capex decisions in a volatile environment.\n\n\n\n 
URL:https://ghacc.org/events/economic-trends-for-business-leaders/
LOCATION:National Entrepreneur Center\, 3201 East Colonial Drive\, Orlando\, FL\, 32803\, United States
CATEGORIES:Business Event,Educational Event
ATTACH;FMTTYPE=image/jpeg:https://ghacc.org/wp-content/uploads/2025/11/IMG_2253.jpeg
END:VEVENT
BEGIN:VEVENT
DTSTART;TZID=America/New_York:20251125T180000
DTEND;TZID=America/New_York:20251125T200000
DTSTAMP:20260420T165353
CREATED:20250226T212732Z
LAST-MODIFIED:20250226T212828Z
UID:10000364-1764093600-1764100800@ghacc.org
SUMMARY:"The Art of Belonging: Building Inclusive Communities" at GHACC Academy
DESCRIPTION:Join us for a transformative workshop on The Art of Belonging at the National Entrepreneur Center (NEC)! This event is designed for entrepreneurs\, leaders\, and individuals committed to fostering an inclusive environment where everyone feels valued and connected. \nAbout the Workshop: \nBelonging is more than just being part of a group; it’s about creating a culture of inclusion and acceptance. In this workshop\, we will explore: \nUnderstanding Belonging: Discover the importance of belonging in personal and professional settings and its impact on well-being and productivity. \nCultivating Inclusivity: Learn strategies to create an inclusive environment where diverse voices are heard and valued. \nBuilding Authentic Connections: Explore ways to foster genuine relationships that enhance collaboration and community. \nOvercoming Barriers: Identify common obstacles to belonging and how to address them effectively. \nWho Should Attend: \nEntrepreneurs and small business owners \nTeam leaders and managers \nHR professionals \nAnyone interested in creating a culture of belonging within their organization or community \nWhy Attend? \nGain practical tools and insights to foster a sense of belonging in your workplace and community. \nNetwork with like-minded individuals who share a passion for inclusivity. \nEngage in interactive discussions and activities that promote understanding and connection. \nDon’t miss this opportunity to learn the art of belonging and make a positive impact in your organization and beyond. Reserve your free spot today! \nWe look forward to welcoming you at the NEC on November 25th for this enriching workshop!
URL:https://ghacc.org/events/the-art-of-belonging-building-inclusive-communities-at-ghacc-academy/
LOCATION:NEC – National Entrepreneur Center\, 3201 E. Colonial Drive\, Orlando\, FL\, 32803\, United States
CATEGORIES:Business Event,Community Event,Educational Event,GHACC Academy,Networking Event
END:VEVENT
BEGIN:VEVENT
DTSTART;TZID=America/New_York:20251223T180000
DTEND;TZID=America/New_York:20251223T200000
DTSTAMP:20260420T165353
CREATED:20250226T213409Z
LAST-MODIFIED:20250226T213522Z
UID:10000365-1766512800-1766520000@ghacc.org
SUMMARY:"Positioning Your Presence: Elevate Your Brand" at GHACC Academy
DESCRIPTION:Join us for an insightful workshop on Positioning Your Presence at the National Entrepreneur Center (NEC)! This event is perfect for entrepreneurs\, professionals\, and anyone looking to enhance their personal or business brand in today’s competitive landscape. \nAbout the Workshop: \nIn a world where first impressions matter\, effectively positioning your presence can set you apart. This workshop will cover: \nUnderstanding Personal Branding: Learn the fundamentals of personal branding and why it’s essential for your career and business. \nIdentifying Your Unique Value Proposition: Discover how to articulate what makes you or your business unique and why it matters to your audience. \nStrategic Communication: Explore techniques for communicating your brand effectively across various platforms\, including social media\, networking events\, and public speaking. \nBuilding Authentic Connections: Understand the importance of authenticity in positioning and how to create genuine relationships that enhance your brand. \nWho Should Attend: \nEntrepreneurs and small business owners \nProfessionals seeking to enhance their personal brand \nMarketing and communications professionals \nAnyone interested in improving their presence and impact \nWhy Attend? \nGain practical tools and strategies to effectively position yourself and your brand. \nNetwork with fellow professionals and share insights. \nEngage in interactive discussions and activities that reinforce your learning.
URL:https://ghacc.org/events/positioning-your-presence-elevate-your-brand-at-ghacc-academy/
LOCATION:NEC – National Entrepreneur Center\, 3201 E. Colonial Drive\, Orlando\, FL\, 32803\, United States
CATEGORIES:Business Event,Community Event,Educational Event,General Meeting,GHACC Academy,Networking Event
END:VEVENT
BEGIN:VEVENT
DTSTART;TZID=America/New_York:20260109T190000
DTEND;TZID=America/New_York:20260109T213000
DTSTAMP:20260420T165353
CREATED:20251011T124414Z
LAST-MODIFIED:20251111T012110Z
UID:10000394-1767985200-1767994200@ghacc.org
SUMMARY:Haitian Game Night with the Orlando Magic
DESCRIPTION:agicThis 3rd Annual Game Night is featuring and celebrating the Haitian American community here in Central Florida. Join us to cheer on the Orlando Magic and feature some Haitian Culture and Events throughout the night. \n\n\n\n\n\nGet ready for an unforgettable evening as the Greater Haitian Basketball Team showcases their incredible skills and unwavering passion for the game. The Amway Center Get ready for an unforgettable evening as the Greater Haitian American Chamber of Commerce and the Orlando Magic basketball team showcases their incredible skills and unwavering passion for the game. The Kia Center will come alive with the rhythm of the game\, celebrating both the talent on the court and the vibrant Haitian culture that unites us. \n\nOrlando Magic is a partner with the Greater Haitian American Chamber of Commerce.
URL:https://ghacc.org/events/haitian-game-night-with-the-orlando-magic/
LOCATION:KIA Center\, 400 W Church Stret\, Orlando\, FL\, 32801\, United States
CATEGORIES:Business Event,Community Event,Evening Social Events,Let's Connect,Networking Event,Social Event
ATTACH;FMTTYPE=image/jpeg:https://ghacc.org/wp-content/uploads/2025/10/804B12C4-C2C6-4C4A-90A2-0EAE83110DAB-scaled.jpg
END:VEVENT
BEGIN:VEVENT
DTSTART;TZID=America/New_York:20260113T100000
DTEND;TZID=America/New_York:20260113T113000
DTSTAMP:20260420T165353
CREATED:20260109T143450Z
LAST-MODIFIED:20260109T143450Z
UID:10000403-1768298400-1768303800@ghacc.org
SUMMARY:Protect What You've Built
DESCRIPTION:Small Business Wellness & Estate Planning Workshop\n\nYOU’LL LEARN:\nBusiness Succession Planning\n** Protect your legacy and your employees\n Essential Legal Documents —\n** Wills\, trusts\, healthcare directives\nWellness Resources – Florida Blue tools for stress management & health \nPERFECT FOR:\n** Established owners planning succession\n** Growth-focused entrepreneurs\n** Wellness-minded business leaders\nAttend and have a chance to win a free ticket on SouthWest! \n(Must be present to enter and win)
URL:https://ghacc.org/events/protect-what-youve-built/
LOCATION:National Entrepreneur Center\, 3201 East Colonial Drive\, Orlando\, FL\, 32803\, United States
CATEGORIES:Business Event,Community Event,Educational Event,Networking Event
ATTACH;FMTTYPE=image/jpeg:https://ghacc.org/wp-content/uploads/2026/01/protectbuild.jpg
END:VEVENT
BEGIN:VEVENT
DTSTART;TZID=America/New_York:20260122T090000
DTEND;TZID=America/New_York:20260122T110000
DTSTAMP:20260420T165353
CREATED:20260109T142639Z
LAST-MODIFIED:20260109T142708Z
UID:10000402-1769072400-1769079600@ghacc.org
SUMMARY:How To Do Business With The City Of Winter Park and Orange County
DESCRIPTION:
URL:https://ghacc.org/events/how-to-do-business-with-the-city-of-winter-park-and-orange-county/
LOCATION:Winter Park Community Center\, 721 W. New England Ave\, Winter Park\, FL\, 32789
CATEGORIES:Business Event,Networking Event
ATTACH;FMTTYPE=image/jpeg:https://ghacc.org/wp-content/uploads/2026/01/wp_biz.jpg
END:VEVENT
BEGIN:VEVENT
DTSTART;TZID=America/New_York:20260206T080000
DTEND;TZID=America/New_York:20260207T170000
DTSTAMP:20260420T165353
CREATED:20260119T180746Z
LAST-MODIFIED:20260119T180746Z
UID:10000407-1770364800-1770483600@ghacc.org
SUMMARY:The Movers' Club Men's Leadership Conference 2026
DESCRIPTION:Welcome to The Movers’ Club Men’s Leadership Conference 2026! \n\n\n\nJoin us for a powerful 1.5-day experience designed to equip\, empower\, and elevate men in leadership\, business\, and life. \nThe Mover’s Club Men’s Leadership Conference is more than an event — it’s a movement. Hosted by Dr. Idler Bonhomme\, this gathering brings together purpose-driven men ready to grow in every area of their lives: professionally\, personally\, & spiritually. \nThrough dynamic sessions\, panel discussions\, and networking opportunities\, attendees will gain strategies for: \n\nBuilding sustainable businesses and wealth\nStrengthening mental and physical health\nDeveloping leadership and community influence\nCreating lasting professional connections\n\nDon’t miss out on this chance to boost your leadership skills and be part of something truly impactful. See you there! \nYour ticket includes: \n\n✅ Access to all Saturday keynote sessions and panel discussions\n✅ Entry to business and leadership development workshops\n✅ Participation in structured networking sessions\n✅ Access to the vendor and resource expo\n✅ Lunch provided and conference materials\n\n  \nStep into a room of men committed to growth\, purpose\, and impact.
URL:https://ghacc.org/events/the-movers-club-mens-leadership-conference-2026/
LOCATION:NEC – National Entrepreneur Center\, 3201 E. Colonial Drive\, Orlando\, FL\, 32803\, United States
CATEGORIES:Business Event,Health & Wellness Event,Networking Event
ATTACH;FMTTYPE=image/png:https://ghacc.org/wp-content/uploads/2026/01/mlc.png
ORGANIZER;CN="Idler Bonhomme":MAILTO:metrowest@fyzical.com
END:VEVENT
BEGIN:VEVENT
DTSTART;TZID=America/New_York:20260416T180000
DTEND;TZID=America/New_York:20260416T200000
DTSTAMP:20260420T165353
CREATED:20260318T202444Z
LAST-MODIFIED:20260318T202444Z
UID:10000473-1776362400-1776369600@ghacc.org
SUMMARY:Let's Connect! Networking Mixer for Leaders\, Entrepreneurs\, & Professionals
DESCRIPTION:Join us for an incredible opportunity to connect with professionals in the vibrant Orlando community! \nThe Greater Haitian American Chamber of Commerce Orlando is excited to host a vibrant event that unites the city’s leaders\, entrepreneurs\, and professionals. Join us for an evening that fosters a lively social atmosphere where meaningful connections and valuable networking opportunities can flourish. \nThis event is open to all professionals eager to engage with like-minded individuals who share a passion for personal and professional growth. Whether you’re looking to expand your network\, seek mentorship\, or simply make new friends\, this is the ideal gathering for you! \nDon’t miss this chance to be part of Orlando’s dynamic young professional community. Save the date\, and get ready to forge connections\, share experiences\, and collaborate toward a brighter future together. \nPlease note: All sales are final; there are no refunds.
URL:https://ghacc.org/events/lets-connect-networking-mixer-for-leaders-entrepreneurs-professionals/
LOCATION:Wing Shack\, 4650 East Michigan Street\, Orlando\, FL\, 32812\, United States
CATEGORIES:Business Event,Networking Event
ATTACH;FMTTYPE=image/webp:https://ghacc.org/wp-content/uploads/2026/03/Lets-Connect-Featured-Image-April-2026.webp
END:VEVENT
END:VCALENDAR