BEGIN:VCALENDAR
VERSION:2.0
PRODID:-//GHACC | Greater Haitian American Chamber of Commerce - ECPv6.15.20//NONSGML v1.0//EN
CALSCALE:GREGORIAN
METHOD:PUBLISH
X-WR-CALNAME:GHACC | Greater Haitian American Chamber of Commerce
X-ORIGINAL-URL:https://ghacc.org
X-WR-CALDESC:Events for GHACC | Greater Haitian American Chamber of Commerce
REFRESH-INTERVAL;VALUE=DURATION:PT1H
X-Robots-Tag:noindex
X-PUBLISHED-TTL:PT1H
BEGIN:VTIMEZONE
TZID:America/New_York
BEGIN:DAYLIGHT
TZOFFSETFROM:-0500
TZOFFSETTO:-0400
TZNAME:EDT
DTSTART:20130310T070000
END:DAYLIGHT
BEGIN:STANDARD
TZOFFSETFROM:-0400
TZOFFSETTO:-0500
TZNAME:EST
DTSTART:20131103T060000
END:STANDARD
BEGIN:DAYLIGHT
TZOFFSETFROM:-0500
TZOFFSETTO:-0400
TZNAME:EDT
DTSTART:20140309T070000
END:DAYLIGHT
BEGIN:STANDARD
TZOFFSETFROM:-0400
TZOFFSETTO:-0500
TZNAME:EST
DTSTART:20141102T060000
END:STANDARD
BEGIN:DAYLIGHT
TZOFFSETFROM:-0500
TZOFFSETTO:-0400
TZNAME:EDT
DTSTART:20150308T070000
END:DAYLIGHT
BEGIN:STANDARD
TZOFFSETFROM:-0400
TZOFFSETTO:-0500
TZNAME:EST
DTSTART:20151101T060000
END:STANDARD
BEGIN:DAYLIGHT
TZOFFSETFROM:-0500
TZOFFSETTO:-0400
TZNAME:EDT
DTSTART:20160313T070000
END:DAYLIGHT
BEGIN:STANDARD
TZOFFSETFROM:-0400
TZOFFSETTO:-0500
TZNAME:EST
DTSTART:20161106T060000
END:STANDARD
BEGIN:DAYLIGHT
TZOFFSETFROM:-0500
TZOFFSETTO:-0400
TZNAME:EDT
DTSTART:20170312T070000
END:DAYLIGHT
BEGIN:STANDARD
TZOFFSETFROM:-0400
TZOFFSETTO:-0500
TZNAME:EST
DTSTART:20171105T060000
END:STANDARD
BEGIN:DAYLIGHT
TZOFFSETFROM:-0500
TZOFFSETTO:-0400
TZNAME:EDT
DTSTART:20180311T070000
END:DAYLIGHT
BEGIN:STANDARD
TZOFFSETFROM:-0400
TZOFFSETTO:-0500
TZNAME:EST
DTSTART:20181104T060000
END:STANDARD
BEGIN:DAYLIGHT
TZOFFSETFROM:-0500
TZOFFSETTO:-0400
TZNAME:EDT
DTSTART:20190310T070000
END:DAYLIGHT
BEGIN:STANDARD
TZOFFSETFROM:-0400
TZOFFSETTO:-0500
TZNAME:EST
DTSTART:20191103T060000
END:STANDARD
BEGIN:DAYLIGHT
TZOFFSETFROM:-0500
TZOFFSETTO:-0400
TZNAME:EDT
DTSTART:20200308T070000
END:DAYLIGHT
BEGIN:STANDARD
TZOFFSETFROM:-0400
TZOFFSETTO:-0500
TZNAME:EST
DTSTART:20201101T060000
END:STANDARD
END:VTIMEZONE
BEGIN:VTIMEZONE
TZID:UTC
BEGIN:STANDARD
TZOFFSETFROM:+0000
TZOFFSETTO:+0000
TZNAME:UTC
DTSTART:20140101T000000
END:STANDARD
END:VTIMEZONE
BEGIN:VEVENT
DTSTART;TZID=America/New_York:20190718T190000
DTEND;TZID=America/New_York:20190718T210000
DTSTAMP:20260421T204521
CREATED:20190715T134639Z
LAST-MODIFIED:20190715T134955Z
UID:10000220-1563476400-1563483600@ghacc.org
SUMMARY:Let's Connect - July Networking Event
DESCRIPTION:"*" indicates required fields \n                        \n                        Name*\n                            \n                            \n                                                    \n                                                    First\n                                                \n                            \n                            \n                                                    \n                                                    Last\n                                                \n                            \n                        Business NameTitle/PositionEmail*\n                            \n                        PhoneName one thing you would like to accomplish by attending?Billing Address    \n                    \n                         \n                                        \n                                        Street Address\n                                    \n                                        \n                                        Address Line 2\n                                    \n                                    \n                                    City\n                                 \n                                        AlabamaAlaskaAmerican SamoaArizonaArkansasCaliforniaColoradoConnecticutDelawareDistrict of ColumbiaFloridaGeorgiaGuamHawaiiIdahoIllinoisIndianaIowaKansasKentuckyLouisianaMaineMarylandMassachusettsMichiganMinnesotaMississippiMissouriMontanaNebraskaNevadaNew HampshireNew JerseyNew MexicoNew YorkNorth CarolinaNorth DakotaNorthern Mariana IslandsOhioOklahomaOregonPennsylvaniaPuerto RicoRhode IslandSouth CarolinaSouth DakotaTennesseeTexasUtahU.S. Virgin IslandsVermontVirginiaWashingtonWest VirginiaWisconsinWyomingArmed Forces AmericasArmed Forces EuropeArmed Forces Pacific\n                                        State\n                                      \n                                    \n                                    ZIP Code\n                                \n                    \n                Are You an Active GHACC Member?*\n			\n					\n					Yes I sure am!\n			\n			\n					\n					No\, not yet\n			GHACC MEMBER CODE Registration Fee Quantity*\n					\n					\n						Price:\n						$25.00\n					\n					\n					 Quantity \n				Total\n							\n						Credit Card\n                                    American ExpressDiscoverMasterCardVisaSupported Credit Cards: American Express\, Discover\, MasterCard\, Visa\n                                    \n                                    Card Number\n                                 \n                                            \n                                            Expiration Date\n                                                \n                                                   \n                                                       Month\n                                                       \n                                                           Month010203040506070809101112\n                                                       \n                                                   \n                                                   \n                                                       Year\n                                                       \n                                                           Year20262027202820292030203120322033203420352036203720382039204020412042204320442045\n                                                       \n                                                   \n                                                \n                                            \n                                                \n                                                 \n                                                Security Code\n                                             \n                                        \n                                            \n                                            Cardholder Name\n                                         \n          \n            \n            \n            \n            \n            \n            \n            \n            \n            \n            \n            \n            \n            \n        \n                        Δ
URL:https://ghacc.org/events/lets-connect-july-networking-event/
LOCATION:Noze Art Studio\, 1187 Florida Mall\, Orlando\, FL\, 32809\, United States
CATEGORIES:Networking Event
ATTACH;FMTTYPE=image/jpeg:https://ghacc.org/wp-content/uploads/2019/07/Lets-Connect-Noze-Art-Studio.jpg
END:VEVENT
BEGIN:VEVENT
DTSTART;TZID=America/New_York:20190630T130000
DTEND;TZID=America/New_York:20190630T190000
DTSTAMP:20260421T204521
CREATED:20190617T140134Z
LAST-MODIFIED:20190617T140134Z
UID:10000217-1561899600-1561921200@ghacc.org
SUMMARY:Caribbean American Heritage Month
DESCRIPTION:
URL:https://ghacc.org/events/caribbean-american-heritage-month/
LOCATION:FL
CATEGORIES:Community Event
ATTACH;FMTTYPE=image/jpeg:https://ghacc.org/wp-content/uploads/2019/06/Caribbean-American-Heritage-Flyer.jpg
END:VEVENT
BEGIN:VEVENT
DTSTART;TZID=America/New_York:20190622T180000
DTEND;TZID=America/New_York:20190622T210000
DTSTAMP:20260421T204521
CREATED:20190617T135820Z
LAST-MODIFIED:20190617T135820Z
UID:10000216-1561226400-1561237200@ghacc.org
SUMMARY:Immigration Forum
DESCRIPTION:
URL:https://ghacc.org/events/immigration-forum/
LOCATION:The Kingdom Church\, 800 North Pine Hills Road\, Orlando\, FL\, 32808\, United States
CATEGORIES:Community Event
ATTACH;FMTTYPE=image/jpeg:https://ghacc.org/wp-content/uploads/2019/06/Immigration-Forum.jpg
END:VEVENT
BEGIN:VEVENT
DTSTART;TZID=America/New_York:20190620T183000
DTEND;TZID=America/New_York:20190620T203000
DTSTAMP:20260421T204521
CREATED:20190617T135612Z
LAST-MODIFIED:20190617T140834Z
UID:10000215-1561055400-1561062600@ghacc.org
SUMMARY:Let's Connect - June Event
DESCRIPTION:"*" indicates required fields \n                        \n                        Name*\n                            \n                            \n                                                    \n                                                    First\n                                                \n                            \n                            \n                                                    \n                                                    Last\n                                                \n                            \n                        Business NameYour Title/Position:Email*\n                            \n                        PhoneAre Your a GHACC Member?*\n			\n					\n					Yes I sure am!\n			\n			\n					\n					Not yet\, but I am interested\n			\n			\n					\n					No\n			Name one thing you would like to accomplish by attending?*\n          \n            \n            \n            \n            \n            \n            \n            \n            \n            \n            \n            \n            \n            \n        \n                        Δ
URL:https://ghacc.org/events/lets-connect-june-event/
LOCATION:Fashion Square Mall\, 3201 E. Colonial Drive\, Orlando\, FL\, 32803\, United States
CATEGORIES:Community Event
ATTACH;FMTTYPE=image/jpeg:https://ghacc.org/wp-content/uploads/2019/06/Lets-Connect-Design-June-v2.jpg
END:VEVENT
BEGIN:VEVENT
DTSTART;TZID=America/New_York:20190519T190000
DTEND;TZID=America/New_York:20190519T230000
DTSTAMP:20260421T204521
CREATED:20190503T162432Z
LAST-MODIFIED:20190503T162432Z
UID:10000213-1558292400-1558306800@ghacc.org
SUMMARY:Culture Night
DESCRIPTION:
URL:https://ghacc.org/events/culture-night/
LOCATION:The Kingdom Church\, 800 North Pine Hills Road\, Orlando\, FL\, 32808\, United States
CATEGORIES:Social Event
ATTACH;FMTTYPE=image/jpeg:https://ghacc.org/wp-content/uploads/2019/05/Culture-Night.jpg
END:VEVENT
BEGIN:VEVENT
DTSTART;TZID=America/New_York:20190518T183000
DTEND;TZID=America/New_York:20190518T220000
DTSTAMP:20260421T204521
CREATED:20190506T142202Z
LAST-MODIFIED:20190506T142202Z
UID:10000214-1558204200-1558216800@ghacc.org
SUMMARY:Celebrating Haitian Heritage Cultural Month
DESCRIPTION:
URL:https://ghacc.org/events/celebrating-haitian-heritage-cultural-month/
LOCATION:Fashion Square Mall\, 3201 E. Colonial Drive\, Orlando\, FL\, 32803\, United States
CATEGORIES:Community Event
ATTACH;FMTTYPE=image/jpeg:https://ghacc.org/wp-content/uploads/2019/05/VIP-Reception-front-Copy.jpg
ORGANIZER;CN="Nattacha Wyllie":MAILTO:haitianheritagemonth@gmail.com
END:VEVENT
BEGIN:VEVENT
DTSTART;TZID=America/New_York:20190516T140000
DTEND;TZID=America/New_York:20190516T170000
DTSTAMP:20260421T204521
CREATED:20190503T161833Z
LAST-MODIFIED:20190510T005153Z
UID:10000212-1558015200-1558026000@ghacc.org
SUMMARY:GHACC Institute - Customer Service Workshop
DESCRIPTION:
URL:https://ghacc.org/events/ghacc-institute-customer-service-workshop/
LOCATION:Goodwill Job Connections\, 3200 W. Colonial Drive\, Orlando\, FL\, 32805\, United States
CATEGORIES:Community Event,GHACC Academy
ATTACH;FMTTYPE=image/png:https://ghacc.org/wp-content/uploads/2019/05/CUSTOMER-SERVICE-1.png
END:VEVENT
BEGIN:VEVENT
DTSTART;TZID=America/New_York:20190507T180000
DTEND;TZID=America/New_York:20190507T200000
DTSTAMP:20260421T204521
CREATED:20190503T160826Z
LAST-MODIFIED:20190503T160826Z
UID:10000210-1557252000-1557259200@ghacc.org
SUMMARY:Proclamation of Haitian Heritage Month - Ocoee
DESCRIPTION:
URL:https://ghacc.org/events/proclamation-of-haitian-heritage-month-ocoee/
LOCATION:Ocoee City Hall\, 159 N. Lakeshore Drive\, Ocoee\, FL\, 34761\, United States
CATEGORIES:Community Event
ATTACH;FMTTYPE=image/jpeg:https://ghacc.org/wp-content/uploads/2019/05/Ocoee-Haitian-Heritage-Flyer.jpg
END:VEVENT
BEGIN:VEVENT
DTSTART;TZID=America/New_York:20190504T140000
DTEND;TZID=America/New_York:20190504T220000
DTSTAMP:20260421T204521
CREATED:20190503T161203Z
LAST-MODIFIED:20190503T161203Z
UID:10000211-1556978400-1557007200@ghacc.org
SUMMARY:Taste of Haiti
DESCRIPTION:
URL:https://ghacc.org/events/taste-of-haiti/
LOCATION:Eagle Nest Park\, 5353 Metrowest Blvd\, Orlando\, FL\, 32811\, United States
ATTACH;FMTTYPE=image/jpeg:https://ghacc.org/wp-content/uploads/2019/05/Taste-of-Haiti-2019.jpg
END:VEVENT
BEGIN:VEVENT
DTSTART;TZID=America/New_York:20190503T170000
DTEND;TZID=America/New_York:20190503T200000
DTSTAMP:20260421T204521
CREATED:20190503T160505Z
LAST-MODIFIED:20190503T160505Z
UID:10000209-1556902800-1556913600@ghacc.org
SUMMARY:Noze Art Studio Grand Opening
DESCRIPTION:
URL:https://ghacc.org/events/noze-art-studio-grand-opening/
LOCATION:Noze Art Studio\, 1187 Florida Mall\, Orlando\, FL\, 32809\, United States
CATEGORIES:Community Event
ATTACH;FMTTYPE=image/jpeg:https://ghacc.org/wp-content/uploads/2019/05/Noze-Art-Flyer.jpg
END:VEVENT
BEGIN:VEVENT
DTSTART;TZID=America/New_York:20161201T120000
DTEND;TZID=America/New_York:20161201T130000
DTSTAMP:20260421T204521
CREATED:20160901T202007Z
LAST-MODIFIED:20160901T202007Z
UID:10000207-1480593600-1480597200@ghacc.org
SUMMARY:Low Back Pain
DESCRIPTION:
URL:https://ghacc.org/events/low-back-pain/
LOCATION:Wellcare Health Plans\, 6801 W Colonial Dr  ste E\, Orlando\, FL\, 32818\, United States
CATEGORIES:Health & Wellness Event
END:VEVENT
BEGIN:VEVENT
DTSTART;TZID=America/New_York:20161103T120000
DTEND;TZID=America/New_York:20161103T130000
DTSTAMP:20260421T204521
CREATED:20160901T201907Z
LAST-MODIFIED:20160901T201907Z
UID:10000206-1478174400-1478178000@ghacc.org
SUMMARY:Beat Athritis
DESCRIPTION:
URL:https://ghacc.org/events/beat-athritis/
LOCATION:Wellcare Health Plans\, 6801 W Colonial Dr  ste E\, Orlando\, FL\, 32818\, United States
CATEGORIES:Health & Wellness Event
END:VEVENT
BEGIN:VEVENT
DTSTART;TZID=America/New_York:20161006T120000
DTEND;TZID=America/New_York:20161006T130000
DTSTAMP:20260421T204521
CREATED:20160901T201808Z
LAST-MODIFIED:20160901T201808Z
UID:10000205-1475755200-1475758800@ghacc.org
SUMMARY:Good Posture
DESCRIPTION:
URL:https://ghacc.org/events/good-posture/
LOCATION:Wellcare Health Plans\, 6801 W Colonial Dr  ste E\, Orlando\, FL\, 32818\, United States
CATEGORIES:Health & Wellness Event
END:VEVENT
BEGIN:VEVENT
DTSTART;TZID=America/New_York:20160922T170000
DTEND;TZID=America/New_York:20160922T190000
DTSTAMP:20260421T204521
CREATED:20160901T201707Z
LAST-MODIFIED:20160901T201707Z
UID:10000204-1474563600-1474570800@ghacc.org
SUMMARY:Patient Appreciation Party
DESCRIPTION:
URL:https://ghacc.org/events/patient-appreciation-party/
LOCATION:Fyzical Therapy\, 6388 Silver Star Rd\, Orlando\, FL\, 32818\, United States
CATEGORIES:Health & Wellness Event
END:VEVENT
BEGIN:VEVENT
DTSTART;TZID=America/New_York:20160915T180000
DTEND;TZID=America/New_York:20160915T200000
DTSTAMP:20260421T204521
CREATED:20160901T202250Z
LAST-MODIFIED:20160901T202250Z
UID:10000208-1473962400-1473969600@ghacc.org
SUMMARY:Living Well and Planning Well
DESCRIPTION:
URL:https://ghacc.org/events/living-well-and-planning-well/
LOCATION:Carnegie Hall\, 13798 Cygnus Drive\, Orlando\, FL\, 32828\, United States
CATEGORIES:Health & Wellness Event
ATTACH;FMTTYPE=image/jpeg:https://ghacc.org/wp-content/uploads/2016/09/Aging-Well-Symposium.jpg
END:VEVENT
BEGIN:VEVENT
DTSTART;TZID=America/New_York:20160901T120000
DTEND;TZID=America/New_York:20160901T130000
DTSTAMP:20260421T204521
CREATED:20160831T204223Z
LAST-MODIFIED:20160831T204223Z
UID:10000203-1472731200-1472734800@ghacc.org
SUMMARY:Dizziness & Balance
DESCRIPTION:
URL:https://ghacc.org/events/dizziness-balance/
LOCATION:Wellcare Health Plans\, 6801 W Colonial Dr  ste E\, Orlando\, FL\, 32818\, United States
CATEGORIES:Health & Wellness Event
END:VEVENT
BEGIN:VEVENT
DTSTART;TZID=America/New_York:20151209T180000
DTEND;TZID=America/New_York:20151209T230000
DTSTAMP:20260421T204521
CREATED:20151122T201656Z
LAST-MODIFIED:20151122T201656Z
UID:10000202-1449684000-1449702000@ghacc.org
SUMMARY:Central Florida's Professional Organizations Holiday Party
DESCRIPTION:
URL:https://ghacc.org/events/central-floridas-professional-organizations-holiday-party/
LOCATION:The Citrus Bowl East Indoor Club (enter via Florida Hosptial signage entrance\, gate B)\, One Citrus Bowl Place\, Orlando\, FL\, 32805\, United States
CATEGORIES:Evening Social Events
END:VEVENT
BEGIN:VEVENT
DTSTART;TZID=UTC:20150515T180000
DTEND;TZID=UTC:20150522T030000
DTSTAMP:20260421T204521
CREATED:20150428T004405Z
LAST-MODIFIED:20150428T005030Z
UID:10000201-1431712800-1432263600@ghacc.org
SUMMARY:Haitian Cultural Week (Save the Date)
DESCRIPTION:5/15 – Business After Hours Mixer \n5/16 – Church Service \n5/17 – Haitian Flag Day Celebration & Soccer Tournament \n5/18 – Haitian Professionals Day (Orange County School visits) \n5/19 – Haitian Professionals Day (Orange County School visits) \n5/20 – Movie Night \n5/21 – Round Table \n5/22 – Bal/Social
URL:https://ghacc.org/events/haitian-cultural-week-save-the-date/
LOCATION:FL
CATEGORIES:Community Event,Community Outreach Event,Evening Social Events,National Event
END:VEVENT
BEGIN:VEVENT
DTSTART;TZID=America/New_York:20150416T183000
DTEND;TZID=America/New_York:20150416T213000
DTSTAMP:20260421T204521
CREATED:20150116T043822Z
LAST-MODIFIED:20150116T043822Z
UID:10000196-1429209000-1429219800@ghacc.org
SUMMARY:GHACC Orlando Fundraiser
DESCRIPTION:
URL:https://ghacc.org/events/ghacc-orlando-fundraiser/
LOCATION:TBD
CATEGORIES:Community Event
END:VEVENT
BEGIN:VEVENT
DTSTART;TZID=America/New_York:20150318T183000
DTEND;TZID=America/New_York:20150318T193000
DTSTAMP:20260421T204521
CREATED:20150116T043047Z
LAST-MODIFIED:20150219T023644Z
UID:10000194-1426703400-1426707000@ghacc.org
SUMMARY:GHACC Orlando General Meeting
DESCRIPTION:
URL:https://ghacc.org/events/ghacc-orlando-general-meeting/
LOCATION:Center for Multicultural Wellness & Prevention (CMWP)\, 641 North Rio Grande Avenue\, Orlando\, 32805
CATEGORIES:Community Event
END:VEVENT
BEGIN:VEVENT
DTSTART;VALUE=DATE:20150219
DTEND;VALUE=DATE:20150220
DTSTAMP:20260421T204521
CREATED:20150116T043607Z
LAST-MODIFIED:20150219T022714Z
UID:10000195-1424304000-1424390399@ghacc.org
SUMMARY:CMWP Gala & 20th Anniversary to be held in July 2015
DESCRIPTION:CMWP’s Gala and 20th Anniversary will be held in July 2015…check back for date and details!
URL:https://ghacc.org/events/cmwp-black-white-gala-evening-of-hope-fundraising-event/
LOCATION:FL
CATEGORIES:Community Event,Evening Social Events
END:VEVENT
BEGIN:VEVENT
DTSTART;TZID=America/New_York:20150119T100000
DTEND;TZID=America/New_York:20150119T120000
DTSTAMP:20260421T204521
CREATED:20150116T045142Z
LAST-MODIFIED:20150116T045142Z
UID:10000198-1421661600-1421668800@ghacc.org
SUMMARY:MLK Parade & Celebration (City of Ocoee)
DESCRIPTION:Hosted by the Ocoee Human Relations Diversity Board (HRDB) \nGuest Speaker: Sisaundra Lewis
URL:https://ghacc.org/events/mlk-parade-celebration-city-of-ocoee/
LOCATION:Citrus Elementary  to West Oaks Mall\, Clarke Road\, Ocoee\, FL\, 34761\, United States
CATEGORIES:Community Event,Community Outreach Event
END:VEVENT
BEGIN:VEVENT
DTSTART;TZID=America/New_York:20150117T080000
DTEND;TZID=America/New_York:20150117T100000
DTSTAMP:20260421T204521
CREATED:20150116T044859Z
LAST-MODIFIED:20150116T044859Z
UID:10000197-1421481600-1421488800@ghacc.org
SUMMARY:MLK Parade (downtown Orlando)
DESCRIPTION:Hosted by Southwest Orlando Jaycees
URL:https://ghacc.org/events/mlk-parade-downtown-orlando/
LOCATION:Unnamed Venue\, Orange Avenue\, Orlando\, FL\, 32801\, United States
CATEGORIES:Community Event,Community Outreach Event
END:VEVENT
BEGIN:VEVENT
DTSTART;TZID=America/New_York:20150116T090000
DTEND;TZID=America/New_York:20150116T140000
DTSTAMP:20260421T204521
CREATED:20150116T045430Z
LAST-MODIFIED:20150116T045430Z
UID:10000199-1421398800-1421416800@ghacc.org
SUMMARY:Pine Hills Neighborhood Improvement District Business Fair
DESCRIPTION:
URL:https://ghacc.org/events/pine-hills-neighborhood-improvement-district-business-fair/
LOCATION:Soiree Event & Conference Center\, 6394 Silver Star Road\, Orlando\, FL\, 32818\, United States
CATEGORIES:Community Event,Community Outreach Event,Member Spotlight
END:VEVENT
BEGIN:VEVENT
DTSTART;TZID=America/New_York:20150116T083000
DTEND;TZID=America/New_York:20150116T110000
DTSTAMP:20260421T204521
CREATED:20150116T051604Z
LAST-MODIFIED:20150116T051604Z
UID:10000200-1421397000-1421406000@ghacc.org
SUMMARY:2015 Orange County Economic Summit
DESCRIPTION:GHACC Orlando\, represented by Patrick Baron\, joined Orange County Commissioner Victoria P. Siplin’s table.
URL:https://ghacc.org/events/2015-orange-county-economic-summit/
LOCATION:Convention Center\, Orlando
CATEGORIES:Community Event,Community Outreach Event
END:VEVENT
BEGIN:VEVENT
DTSTART;TZID=America/New_York:20150112T070000
DTEND;TZID=America/New_York:20150112T210000
DTSTAMP:20260421T204521
CREATED:20150116T041422Z
LAST-MODIFIED:20150116T041448Z
UID:10000193-1421046000-1421096400@ghacc.org
SUMMARY:5th Annual Remembering Haiti (City of Orlando and Commissioner Ings)
DESCRIPTION:Mass @ 6PM at St. James Catholic Cathedral (downtown Orlando)
URL:https://ghacc.org/events/5th-annual-remembering-haiti-city-of-orlando-and-commissioner-ings/
LOCATION:FL
CATEGORIES:Community Event
END:VEVENT
BEGIN:VEVENT
DTSTART;TZID=America/New_York:20141023T183000
DTEND;TZID=America/New_York:20141023T200000
DTSTAMP:20260421T204521
CREATED:20141003T160800Z
LAST-MODIFIED:20141004T041835Z
UID:10000192-1414089000-1414094400@ghacc.org
SUMMARY:Purple-Pink Zumba Fundraiser
DESCRIPTION:Benefiting the American Cancer Society & Harbor House of Central Florida
URL:https://ghacc.org/events/purple-pink-zumba-fundraising/
LOCATION:LaVie Wellness Spa\, 6488 Currin Drive\, Orlando\, FL\, United States
CATEGORIES:Community Event
ATTACH;FMTTYPE=image/jpeg:https://ghacc.org/wp-content/uploads/2014/10/Purple-Pink-Zumba-Fundraiser-flyer-in-memory-of-Monique-Bonaparte.jpg
END:VEVENT
BEGIN:VEVENT
DTSTART;TZID=America/New_York:20140914T100000
DTEND;TZID=America/New_York:20140914T110000
DTSTAMP:20260421T204521
CREATED:20140908T014424Z
LAST-MODIFIED:20140911T122303Z
UID:10000191-1410688800-1410692400@ghacc.org
SUMMARY:GHACC Orlando & Rick Singh\, OCPA: An Informational Session for Property Owners
DESCRIPTION:Come join us to learn: \n\nProperty valuation\nAssessment processes\nProperty tax exemptions\nImportant dates to remember
URL:https://ghacc.org/events/an-informational-session-for-property-owners/
LOCATION:First Haitian Baptist Church of Orlando\, 4701 Lenox Blvd\, Orlando\, FL\, 32811\, United States
CATEGORIES:Community Event,Community Outreach Event
ATTACH;FMTTYPE=image/jpeg:https://ghacc.org/wp-content/uploads/2014/09/GHACC-OCPA-Flyer-for-9-14-14-@-FHBCO.jpg
END:VEVENT
BEGIN:VEVENT
DTSTART;TZID=America/New_York:20140630T180000
DTEND;TZID=America/New_York:20140630T220000
DTSTAMP:20260421T204521
CREATED:20140620T122906Z
LAST-MODIFIED:20140620T122906Z
UID:10000190-1404151200-1404165600@ghacc.org
SUMMARY:Red Carpet Monday
DESCRIPTION:Chambers United is closing out Caribbean American Heritage Month by attending a Social Outing with GHACC Orlando to:  \nRed Carpet Monday Networking Reception on Monday\, June 30th at 6pm @ Blackfin Restaurant\, 640 South Orlando Avenue\, Maitland 32751  \nPurchase Tickets: \nThis is a “by invitation only” event\, so buy your ticket now for $20 and have your name on the group RSVP list!! Your admission covers free appetizers\, 2 complimentary drinks/cocktails\, raffle prizes and priceless networking opportunities. Go here for tickets. \nDeadline to pay for RSVP and be on the group list: Wednesday\, June 25th.  \nSEE YOU THERE!!!
URL:https://ghacc.org/events/red-carpet-monday/
LOCATION:Blackfin\,  640 S Orlando Ave\, Maitland\, FL\, 32751\, United States
CATEGORIES:Evening Social Events
ATTACH;FMTTYPE=image/jpeg:https://ghacc.org/wp-content/uploads/2014/06/Red-Carpet-Monday-joint-flyer.jpg
END:VEVENT
BEGIN:VEVENT
DTSTART;TZID=America/New_York:20140517T170000
DTEND;TZID=America/New_York:20140517T190000
DTSTAMP:20260421T204521
CREATED:20140512T005814Z
LAST-MODIFIED:20140512T005814Z
UID:10000186-1400346000-1400353200@ghacc.org
SUMMARY:Know Your Rights
DESCRIPTION:
URL:https://ghacc.org/events/know-your-rights/
LOCATION:The Kingdom Church\, 800 North Pine Hills Road\, Orlando\, FL\, 32808\, United States
CATEGORIES:Community Event
ATTACH;FMTTYPE=image/jpeg:https://ghacc.org/wp-content/uploads/2014/05/Know-Your-Employment-Rights-5.17.14.jpg
END:VEVENT
END:VCALENDAR