BEGIN:VCALENDAR
VERSION:2.0
PRODID:-//GHACC | Greater Haitian American Chamber of Commerce - ECPv6.15.20//NONSGML v1.0//EN
CALSCALE:GREGORIAN
METHOD:PUBLISH
X-WR-CALNAME:GHACC | Greater Haitian American Chamber of Commerce
X-ORIGINAL-URL:https://ghacc.org
X-WR-CALDESC:Events for GHACC | Greater Haitian American Chamber of Commerce
REFRESH-INTERVAL;VALUE=DURATION:PT1H
X-Robots-Tag:noindex
X-PUBLISHED-TTL:PT1H
BEGIN:VTIMEZONE
TZID:America/New_York
BEGIN:DAYLIGHT
TZOFFSETFROM:-0500
TZOFFSETTO:-0400
TZNAME:EDT
DTSTART:20130310T070000
END:DAYLIGHT
BEGIN:STANDARD
TZOFFSETFROM:-0400
TZOFFSETTO:-0500
TZNAME:EST
DTSTART:20131103T060000
END:STANDARD
BEGIN:DAYLIGHT
TZOFFSETFROM:-0500
TZOFFSETTO:-0400
TZNAME:EDT
DTSTART:20140309T070000
END:DAYLIGHT
BEGIN:STANDARD
TZOFFSETFROM:-0400
TZOFFSETTO:-0500
TZNAME:EST
DTSTART:20141102T060000
END:STANDARD
BEGIN:DAYLIGHT
TZOFFSETFROM:-0500
TZOFFSETTO:-0400
TZNAME:EDT
DTSTART:20150308T070000
END:DAYLIGHT
BEGIN:STANDARD
TZOFFSETFROM:-0400
TZOFFSETTO:-0500
TZNAME:EST
DTSTART:20151101T060000
END:STANDARD
END:VTIMEZONE
BEGIN:VEVENT
DTSTART;TZID=America/New_York:20140424T183000
DTEND;TZID=America/New_York:20140424T203000
DTSTAMP:20260425T081023
CREATED:20140422T120140Z
LAST-MODIFIED:20140422T120140Z
UID:10000178-1398364200-1398371400@ghacc.org
SUMMARY:Member Spotlight - Opportunity Management Group
DESCRIPTION:Summer 2014 10-Day Haiti Excursion trip & Cultural Discovery \n 
URL:https://ghacc.org/events/member-spotlight-opportunity-management-group/
LOCATION:La Vie Wellness Spa\, 6488 Currin Drive\, Orlando\, FL\, 32835\, United States
CATEGORIES:Member Spotlight
ATTACH;FMTTYPE=image/jpeg:https://ghacc.org/wp-content/uploads/2014/04/Member-Spotlight-OMG-4.24.14.jpg
END:VEVENT
END:VCALENDAR