BEGIN:VCALENDAR
VERSION:2.0
PRODID:-//GHACC | Greater Haitian American Chamber of Commerce - ECPv6.15.20//NONSGML v1.0//EN
CALSCALE:GREGORIAN
METHOD:PUBLISH
X-WR-CALNAME:GHACC | Greater Haitian American Chamber of Commerce
X-ORIGINAL-URL:https://ghacc.org
X-WR-CALDESC:Events for GHACC | Greater Haitian American Chamber of Commerce
REFRESH-INTERVAL;VALUE=DURATION:PT1H
X-Robots-Tag:noindex
X-PUBLISHED-TTL:PT1H
BEGIN:VTIMEZONE
TZID:America/New_York
BEGIN:DAYLIGHT
TZOFFSETFROM:-0500
TZOFFSETTO:-0400
TZNAME:EDT
DTSTART:20180311T070000
END:DAYLIGHT
BEGIN:STANDARD
TZOFFSETFROM:-0400
TZOFFSETTO:-0500
TZNAME:EST
DTSTART:20181104T060000
END:STANDARD
BEGIN:DAYLIGHT
TZOFFSETFROM:-0500
TZOFFSETTO:-0400
TZNAME:EDT
DTSTART:20190310T070000
END:DAYLIGHT
BEGIN:STANDARD
TZOFFSETFROM:-0400
TZOFFSETTO:-0500
TZNAME:EST
DTSTART:20191103T060000
END:STANDARD
BEGIN:DAYLIGHT
TZOFFSETFROM:-0500
TZOFFSETTO:-0400
TZNAME:EDT
DTSTART:20200308T070000
END:DAYLIGHT
BEGIN:STANDARD
TZOFFSETFROM:-0400
TZOFFSETTO:-0500
TZNAME:EST
DTSTART:20201101T060000
END:STANDARD
END:VTIMEZONE
BEGIN:VEVENT
DTSTART;TZID=America/New_York:20190718T190000
DTEND;TZID=America/New_York:20190718T210000
DTSTAMP:20260421T104621
CREATED:20190715T134639Z
LAST-MODIFIED:20190715T134955Z
UID:10000220-1563476400-1563483600@ghacc.org
SUMMARY:Let's Connect - July Networking Event
DESCRIPTION:"*" indicates required fields \n                        \n                        Name*\n                            \n                            \n                                                    \n                                                    First\n                                                \n                            \n                            \n                                                    \n                                                    Last\n                                                \n                            \n                        Business NameTitle/PositionEmail*\n                            \n                        PhoneName one thing you would like to accomplish by attending?Billing Address    \n                    \n                         \n                                        \n                                        Street Address\n                                    \n                                        \n                                        Address Line 2\n                                    \n                                    \n                                    City\n                                 \n                                        AlabamaAlaskaAmerican SamoaArizonaArkansasCaliforniaColoradoConnecticutDelawareDistrict of ColumbiaFloridaGeorgiaGuamHawaiiIdahoIllinoisIndianaIowaKansasKentuckyLouisianaMaineMarylandMassachusettsMichiganMinnesotaMississippiMissouriMontanaNebraskaNevadaNew HampshireNew JerseyNew MexicoNew YorkNorth CarolinaNorth DakotaNorthern Mariana IslandsOhioOklahomaOregonPennsylvaniaPuerto RicoRhode IslandSouth CarolinaSouth DakotaTennesseeTexasUtahU.S. Virgin IslandsVermontVirginiaWashingtonWest VirginiaWisconsinWyomingArmed Forces AmericasArmed Forces EuropeArmed Forces Pacific\n                                        State\n                                      \n                                    \n                                    ZIP Code\n                                \n                    \n                Are You an Active GHACC Member?*\n			\n					\n					Yes I sure am!\n			\n			\n					\n					No\, not yet\n			GHACC MEMBER CODE Registration Fee Quantity*\n					\n					\n						Price:\n						$25.00\n					\n					\n					 Quantity \n				Total\n							\n						Credit Card\n                                    American ExpressDiscoverMasterCardVisaSupported Credit Cards: American Express\, Discover\, MasterCard\, Visa\n                                    \n                                    Card Number\n                                 \n                                            \n                                            Expiration Date\n                                                \n                                                   \n                                                       Month\n                                                       \n                                                           Month010203040506070809101112\n                                                       \n                                                   \n                                                   \n                                                       Year\n                                                       \n                                                           Year20262027202820292030203120322033203420352036203720382039204020412042204320442045\n                                                       \n                                                   \n                                                \n                                            \n                                                \n                                                 \n                                                Security Code\n                                             \n                                        \n                                            \n                                            Cardholder Name\n                                         \n          \n            \n            \n            \n            \n            \n            \n            \n            \n            \n            \n            \n            \n            \n        \n                        Δ
URL:https://ghacc.org/events/lets-connect-july-networking-event/
LOCATION:Noze Art Studio\, 1187 Florida Mall\, Orlando\, FL\, 32809\, United States
CATEGORIES:Networking Event
ATTACH;FMTTYPE=image/jpeg:https://ghacc.org/wp-content/uploads/2019/07/Lets-Connect-Noze-Art-Studio.jpg
END:VEVENT
BEGIN:VEVENT
DTSTART;TZID=America/New_York:20190721T193000
DTEND;TZID=America/New_York:20190721T223000
DTSTAMP:20260421T104621
CREATED:20190626T025338Z
LAST-MODIFIED:20190626T025338Z
UID:10000218-1563737400-1563748200@ghacc.org
SUMMARY:Haitian Fête
DESCRIPTION:655 W Church St\, Orlando\, FL 32805655 W Church St\, Orlando\, FL 32805655 W Church St\, Orlando\, FL 32805
URL:https://ghacc.org/events/haitian-fete/
LOCATION:Orlando City Soccer Stadium\, 655 W. Church Street\, Orlando\, FL\, 32805\, United States
CATEGORIES:Community Event
ATTACH;FMTTYPE=image/jpeg:https://ghacc.org/wp-content/uploads/2019/06/Flyer-for-Haitian-Fête.2019.jpg
END:VEVENT
BEGIN:VEVENT
DTSTART;TZID=America/New_York:20190723T180000
DTEND;TZID=America/New_York:20190723T200000
DTSTAMP:20260421T104621
CREATED:20190626T025944Z
LAST-MODIFIED:20190626T025944Z
UID:10000219-1563904800-1563912000@ghacc.org
SUMMARY:Haitian Outreach Event
DESCRIPTION:To inform this population of the programs and services available to improve overall well-being. \nAttendees will visit the vendor tables until time for presentations. Vendors will have approximately 10 minutes for present their program followed by 5 minute allotted time for questions from the attendees.
URL:https://ghacc.org/events/haitian-outreach-event/
LOCATION:Holden Heights Community Center\, 1201 20th Street\, Orlando\, FL\, 33805\, United States
CATEGORIES:Community Outreach Event
ORGANIZER;CN="Yvette Shelton-Edmonds":MAILTO:yvette.shelton-edmonds@ocfl.net
END:VEVENT
END:VCALENDAR