BEGIN:VCALENDAR
VERSION:2.0
PRODID:-//GHACC | Greater Haitian American Chamber of Commerce - ECPv6.15.20//NONSGML v1.0//EN
CALSCALE:GREGORIAN
METHOD:PUBLISH
X-WR-CALNAME:GHACC | Greater Haitian American Chamber of Commerce
X-ORIGINAL-URL:https://ghacc.org
X-WR-CALDESC:Events for GHACC | Greater Haitian American Chamber of Commerce
REFRESH-INTERVAL;VALUE=DURATION:PT1H
X-Robots-Tag:noindex
X-PUBLISHED-TTL:PT1H
BEGIN:VTIMEZONE
TZID:America/New_York
BEGIN:DAYLIGHT
TZOFFSETFROM:-0500
TZOFFSETTO:-0400
TZNAME:EDT
DTSTART:20250309T070000
END:DAYLIGHT
BEGIN:STANDARD
TZOFFSETFROM:-0400
TZOFFSETTO:-0500
TZNAME:EST
DTSTART:20251102T060000
END:STANDARD
BEGIN:DAYLIGHT
TZOFFSETFROM:-0500
TZOFFSETTO:-0400
TZNAME:EDT
DTSTART:20260308T070000
END:DAYLIGHT
BEGIN:STANDARD
TZOFFSETFROM:-0400
TZOFFSETTO:-0500
TZNAME:EST
DTSTART:20261101T060000
END:STANDARD
BEGIN:DAYLIGHT
TZOFFSETFROM:-0500
TZOFFSETTO:-0400
TZNAME:EDT
DTSTART:20270314T070000
END:DAYLIGHT
BEGIN:STANDARD
TZOFFSETFROM:-0400
TZOFFSETTO:-0500
TZNAME:EST
DTSTART:20271107T060000
END:STANDARD
END:VTIMEZONE
BEGIN:VEVENT
DTSTART;TZID=America/New_York:20260903T193000
DTEND;TZID=America/New_York:20260903T213000
DTSTAMP:20260421T043150
CREATED:20260130T170051Z
LAST-MODIFIED:20260130T170051Z
UID:10000415-1788463800-1788471000@ghacc.org
SUMMARY:Signature Social Experience by Chez Lui Café
DESCRIPTION:Get ready for a night of unforgettable social connections and experiences that will have you talking about it for days! Invite 7 people!\nOrlando\, this is an invitation to something different.Every first Thursday of every month\, Chez Lui Café presents a Signature Social Experience at Kalalou Signature Restaurant. \nThis is a refined space for professionals\, creatives\, entrepreneurs\, and those building toward their next level; people who value quality conversations and intentional connections. \nExpect an elegant atmosphere\, signature cocktails\, premium coffee\, and a mature crowd.No loud party energy; just real people\, real conversations\, and real opportunities. \nDoors open at 7:30 PM\, and we go until 11PM. Dress well. Come with purpose. Hosted by Chez Lui Cafe; where people come to sip\, share\, and connect.
URL:https://ghacc.org/events/signature-social-experience-by-chez-lui-cafe/2026-09-03/
LOCATION:Kalalou Signature\, 4904 South Kirkman Road\, Orlando\, FL\, 32811\, United States
CATEGORIES:Evening Social Events,Networking Event,Social Event
ATTACH;FMTTYPE=image/webp:https://ghacc.org/wp-content/uploads/2026/01/Signature-Social-Experience-by-Chez-Lui-Cafe.webp
END:VEVENT
BEGIN:VEVENT
DTSTART;TZID=America/New_York:20260919T090000
DTEND;TZID=America/New_York:20260919T160000
DTSTAMP:20260421T043150
CREATED:20260319T221115Z
LAST-MODIFIED:20260319T221520Z
UID:10000475-1789808400-1789833600@ghacc.org
SUMMARY:Business Summit 2026
DESCRIPTION:What if one event could give you the clarity\, connections\, and confidence to take your business to the next level? This business conference is your opportunity to gain real-world insights from proven leaders across a range of industries—all ready to share strategies that can shift how you work and grow. You’ll be in the room with seasoned professionals\, influential Haitian delegates\, and like-minded entrepreneurs\, opening the door to meaningful conversations and powerful partnerships. From expert advice on business growth to practical lessons in financial literacy\, you’ll leave equipped with the tools and knowledge to make smarter decisions and scale with confidence. Whether you’re building momentum or ready to break through your next ceiling\, this event is where strategy meets opportunity.
URL:https://ghacc.org/events/business-summit-2026/
LOCATION:National Entrepreneur Center\, 3201 East Colonial Drive\, Orlando\, FL\, 32803\, United States
CATEGORIES:Networking Event,Social Event
ATTACH;FMTTYPE=image/webp:https://ghacc.org/wp-content/uploads/2026/03/Business-Summit-2026-__.webp
END:VEVENT
END:VCALENDAR