BEGIN:VCALENDAR
VERSION:2.0
PRODID:-//GHACC | Greater Haitian American Chamber of Commerce - ECPv6.15.20//NONSGML v1.0//EN
CALSCALE:GREGORIAN
METHOD:PUBLISH
X-WR-CALNAME:GHACC | Greater Haitian American Chamber of Commerce
X-ORIGINAL-URL:https://ghacc.org
X-WR-CALDESC:Events for GHACC | Greater Haitian American Chamber of Commerce
REFRESH-INTERVAL;VALUE=DURATION:PT1H
X-Robots-Tag:noindex
X-PUBLISHED-TTL:PT1H
BEGIN:VTIMEZONE
TZID:America/New_York
BEGIN:DAYLIGHT
TZOFFSETFROM:-0500
TZOFFSETTO:-0400
TZNAME:EDT
DTSTART:20240310T070000
END:DAYLIGHT
BEGIN:STANDARD
TZOFFSETFROM:-0400
TZOFFSETTO:-0500
TZNAME:EST
DTSTART:20241103T060000
END:STANDARD
BEGIN:DAYLIGHT
TZOFFSETFROM:-0500
TZOFFSETTO:-0400
TZNAME:EDT
DTSTART:20250309T070000
END:DAYLIGHT
BEGIN:STANDARD
TZOFFSETFROM:-0400
TZOFFSETTO:-0500
TZNAME:EST
DTSTART:20251102T060000
END:STANDARD
BEGIN:DAYLIGHT
TZOFFSETFROM:-0500
TZOFFSETTO:-0400
TZNAME:EDT
DTSTART:20260308T070000
END:DAYLIGHT
BEGIN:STANDARD
TZOFFSETFROM:-0400
TZOFFSETTO:-0500
TZNAME:EST
DTSTART:20261101T060000
END:STANDARD
END:VTIMEZONE
BEGIN:VEVENT
DTSTART;TZID=America/New_York:20250126T130000
DTEND;TZID=America/New_York:20250126T150000
DTSTAMP:20260419T084734
CREATED:20250116T165422Z
LAST-MODIFIED:20250116T165422Z
UID:10000350-1737896400-1737903600@ghacc.org
SUMMARY:Business Builders: Scaling Your Business With Proven Systems
DESCRIPTION:The Growth Code\nUnlock the blueprint to scale your business with ease by implementing systems that save time\, reduce overwhelm\, and increase profitability. In this workshop\, you’ll learn how to automate processes\, delegate effectively\, and build a foundation for long-term success. Whether you’re a solopreneur or growing a team\, this session will equip you with tools to confidently take your business to the next level.
URL:https://ghacc.org/events/business-builders-scaling-your-business-with-proven-systems/
LOCATION:National Entrepreneur Center\, 3201 East Colonial Drive\, Orlando\, FL\, 32803\, United States
CATEGORIES:Business Event,GHACC Academy
ATTACH;FMTTYPE=image/png:https://ghacc.org/wp-content/uploads/2025/01/Business-Builders-January-26th-Flyer.png
ORGANIZER;CN="Design Theory":MAILTO:leads@dthero.com
END:VEVENT
END:VCALENDAR