BEGIN:VCALENDAR
VERSION:2.0
PRODID:-//GHACC | Greater Haitian American Chamber of Commerce - ECPv6.15.20//NONSGML v1.0//EN
CALSCALE:GREGORIAN
METHOD:PUBLISH
X-ORIGINAL-URL:https://ghacc.org
X-WR-CALDESC:Events for GHACC | Greater Haitian American Chamber of Commerce
REFRESH-INTERVAL;VALUE=DURATION:PT1H
X-Robots-Tag:noindex
X-PUBLISHED-TTL:PT1H
BEGIN:VTIMEZONE
TZID:America/New_York
BEGIN:DAYLIGHT
TZOFFSETFROM:-0500
TZOFFSETTO:-0400
TZNAME:EDT
DTSTART:20240310T070000
END:DAYLIGHT
BEGIN:STANDARD
TZOFFSETFROM:-0400
TZOFFSETTO:-0500
TZNAME:EST
DTSTART:20241103T060000
END:STANDARD
BEGIN:DAYLIGHT
TZOFFSETFROM:-0500
TZOFFSETTO:-0400
TZNAME:EDT
DTSTART:20250309T070000
END:DAYLIGHT
BEGIN:STANDARD
TZOFFSETFROM:-0400
TZOFFSETTO:-0500
TZNAME:EST
DTSTART:20251102T060000
END:STANDARD
BEGIN:DAYLIGHT
TZOFFSETFROM:-0500
TZOFFSETTO:-0400
TZNAME:EDT
DTSTART:20260308T070000
END:DAYLIGHT
BEGIN:STANDARD
TZOFFSETFROM:-0400
TZOFFSETTO:-0500
TZNAME:EST
DTSTART:20261101T060000
END:STANDARD
END:VTIMEZONE
BEGIN:VEVENT
DTSTART;TZID=America/New_York:20250129T183000
DTEND;TZID=America/New_York:20250129T203000
DTSTAMP:20260424T043519
CREATED:20250124T174853Z
LAST-MODIFIED:20250124T202639Z
UID:10000352-1738175400-1738182600@ghacc.org
SUMMARY:The Orlando Connect
DESCRIPTION:New Year! New Connections!\nw/ Anika the #1 Friendship Consultant in Central Florida\nKick off the new year by building meaningful connections with likeminded professionals in a classy and welcoming environment.\nFree Professional Headshots\nFood-Drinks-Raffles \nREGISTER BELOW\n\n\n                \n                        \n                             \n							"*" indicates required fields \n                        \n                        Name*\n                            \n                            \n                                                    \n                                                    First\n                                                \n                            \n                            \n                                                    \n                                                    Last\n                                                \n                            \n                        Business NameYour Title/Position:Email*\n                            \n                        PhoneAre Your a GHACC Member?*\n			\n					\n					Yes I sure am!\n			\n			\n					\n					Not yet\, but I am interested\n			\n			\n					\n					No\n			Name one thing you would like to accomplish by attending?*\n          \n            \n            \n            \n            \n            \n            \n            \n            \n            \n            \n            \n            \n            \n        \n                        Δ
URL:https://ghacc.org/events/the-orlando-connect/
LOCATION:National Entrepreneur Center\, 3201 East Colonial Drive\, Orlando\, FL\, 32803\, United States
CATEGORIES:Networking Event,Social Event
ATTACH;FMTTYPE=image/png:https://ghacc.org/wp-content/uploads/2025/01/The-Orlando-Connect-Networking-Event-Flyer-Sponsored-by-GHACC-2.png
END:VEVENT
END:VCALENDAR