BEGIN:VCALENDAR
VERSION:2.0
PRODID:-//GHACC | Greater Haitian American Chamber of Commerce - ECPv6.15.20//NONSGML v1.0//EN
CALSCALE:GREGORIAN
METHOD:PUBLISH
X-ORIGINAL-URL:https://ghacc.org
X-WR-CALDESC:Events for GHACC | Greater Haitian American Chamber of Commerce
REFRESH-INTERVAL;VALUE=DURATION:PT1H
X-Robots-Tag:noindex
X-PUBLISHED-TTL:PT1H
BEGIN:VTIMEZONE
TZID:America/New_York
BEGIN:DAYLIGHT
TZOFFSETFROM:-0500
TZOFFSETTO:-0400
TZNAME:EDT
DTSTART:20240310T070000
END:DAYLIGHT
BEGIN:STANDARD
TZOFFSETFROM:-0400
TZOFFSETTO:-0500
TZNAME:EST
DTSTART:20241103T060000
END:STANDARD
BEGIN:DAYLIGHT
TZOFFSETFROM:-0500
TZOFFSETTO:-0400
TZNAME:EDT
DTSTART:20250309T070000
END:DAYLIGHT
BEGIN:STANDARD
TZOFFSETFROM:-0400
TZOFFSETTO:-0500
TZNAME:EST
DTSTART:20251102T060000
END:STANDARD
BEGIN:DAYLIGHT
TZOFFSETFROM:-0500
TZOFFSETTO:-0400
TZNAME:EDT
DTSTART:20260308T070000
END:DAYLIGHT
BEGIN:STANDARD
TZOFFSETFROM:-0400
TZOFFSETTO:-0500
TZNAME:EST
DTSTART:20261101T060000
END:STANDARD
END:VTIMEZONE
BEGIN:VEVENT
DTSTART;TZID=America/New_York:20251113T083000
DTEND;TZID=America/New_York:20251113T113000
DTSTAMP:20260423T043923
CREATED:20251109T145906Z
LAST-MODIFIED:20251109T150917Z
UID:10000399-1763022600-1763033400@ghacc.org
SUMMARY:Economic Trends for Business Leaders
DESCRIPTION:  \n2026 is coming fast — and if you’re like most business owners\, the decisions you make in Q1 will have long-tail effects. \nTo help business leaders plan with confidence (not guesswork)\, we’re hosting: \n  \n\n\n\n🎤 With Dr. Sean Snaith (UCF) and Michelle Dennard (Federal Reserve Bank of Atlanta\n\n\n\n\n\n\nThis session is designed specifically for business owners\, partners\, and operators making pricing\, hiring\, and capex decisions in a volatile environment.\n\n\n\n 
URL:https://ghacc.org/events/economic-trends-for-business-leaders/
LOCATION:National Entrepreneur Center\, 3201 East Colonial Drive\, Orlando\, FL\, 32803\, United States
CATEGORIES:Business Event,Educational Event
ATTACH;FMTTYPE=image/jpeg:https://ghacc.org/wp-content/uploads/2025/11/IMG_2253.jpeg
END:VEVENT
BEGIN:VEVENT
DTSTART;TZID=America/New_York:20251113T190000
DTEND;TZID=America/New_York:20251113T210000
DTSTAMP:20260423T043923
CREATED:20251024T012543Z
LAST-MODIFIED:20251024T012543Z
UID:10000396-1763060400-1763067600@ghacc.org
SUMMARY:Grand Opening of Belle Ave Studio
DESCRIPTION:Join us as we celebrate the Grand Opening of Belle Ave Studios — Orlando’s newest photography and content creation space! \n✨ What to Expect \n\n\nStudio tours showcasing the photography and podcast rooms \n\n\nLive demos and creative setup previews \n\n\nNetworking with local creators\, entrepreneurs\, and industry pros \n\n\nFun photo ops throughout the space \n\n\n💵 $20 Cover Charge (includes lite bites + drinks)
URL:https://ghacc.org/events/grand-opening-of-belle-ave-studio/
LOCATION:Belle Ave Studios\, 1255 Belle Ave\, Unit 105 & 106\, Winter Springs\, FL\, 32709\, United States
CATEGORIES:Networking Event,Social Event
ATTACH;FMTTYPE=image/jpeg:https://ghacc.org/wp-content/uploads/2025/10/IMG_4449.jpeg
END:VEVENT
END:VCALENDAR