BEGIN:VCALENDAR
VERSION:2.0
PRODID:-//GHACC | Greater Haitian American Chamber of Commerce - ECPv6.15.20//NONSGML v1.0//EN
CALSCALE:GREGORIAN
METHOD:PUBLISH
X-ORIGINAL-URL:https://ghacc.org
X-WR-CALDESC:Events for GHACC | Greater Haitian American Chamber of Commerce
REFRESH-INTERVAL;VALUE=DURATION:PT1H
X-Robots-Tag:noindex
X-PUBLISHED-TTL:PT1H
BEGIN:VTIMEZONE
TZID:America/New_York
BEGIN:DAYLIGHT
TZOFFSETFROM:-0500
TZOFFSETTO:-0400
TZNAME:EDT
DTSTART:20210314T070000
END:DAYLIGHT
BEGIN:STANDARD
TZOFFSETFROM:-0400
TZOFFSETTO:-0500
TZNAME:EST
DTSTART:20211107T060000
END:STANDARD
BEGIN:DAYLIGHT
TZOFFSETFROM:-0500
TZOFFSETTO:-0400
TZNAME:EDT
DTSTART:20220313T070000
END:DAYLIGHT
BEGIN:STANDARD
TZOFFSETFROM:-0400
TZOFFSETTO:-0500
TZNAME:EST
DTSTART:20221106T060000
END:STANDARD
BEGIN:DAYLIGHT
TZOFFSETFROM:-0500
TZOFFSETTO:-0400
TZNAME:EDT
DTSTART:20230312T070000
END:DAYLIGHT
BEGIN:STANDARD
TZOFFSETFROM:-0400
TZOFFSETTO:-0500
TZNAME:EST
DTSTART:20231105T060000
END:STANDARD
END:VTIMEZONE
BEGIN:VEVENT
DTSTART;TZID=America/New_York:20220526T100000
DTEND;TZID=America/New_York:20220526T150000
DTSTAMP:20260420T045047
CREATED:20220526T144709Z
LAST-MODIFIED:20220526T144709Z
UID:10000256-1653559200-1653577200@ghacc.org
SUMMARY:Westgate Resorts Career Fair - May 26\, 2022
DESCRIPTION:Antre nan fanmi Westgate ak nouvo opòtinite soti nan nivo antre nan pozisyon antrepriz! Èske w enterese nan devlope karyè rèv ou pandan w ap bay lòt moun vakans rèv? Devlope karyè ou nan yon konpayi vwayaj ak Ospitalite ak fanmi ou bò kote ou! Westgate Resorts òganize fwa karyè fanmi-zanmitay atravè peyi a nan destinasyon soti nan Orlando rive nan Cocoa Beach\, Florid\, Las Vegas\, Nevada\, Gatlinburg\, Tennessee\, Myrtle Beach\, South Carolina\, Park City\, Utah\, ak plis ankò! Zanmi ak fanmi yo pa sèlman akeyi men ankouraje yo patisipe nan evènman yo! \nLè: 26 Me 2022 \nKi kote: 4602 N Pine Hills Rd\, Florida 32808 \nAvailable positions: \, Asistan Lesiv\, Enjenyè (Elektrisyen\, Elektrisyen\, etc)\, Antretyen (Pent\, Jadinye\, etc)\, Sekirite\, Kisinyè\, etc. \nAvantaj: Medikal\, Dantè\, Vizyon\, Lavi ak konje peye (vakans\, vakans ak peye maladi). \nTanpri kontakte m nan: (321) – 317 – 0359 or Hurgens_dorcinvil@wgresorts.com
URL:https://ghacc.org/events/westgate-resorts-career-fair-may-26-2022/
LOCATION:Church of God of Prophecy of the Last Days\, 4602 N. Pine Hills Road\, Orlando\, FL\, 32808\, United States
CATEGORIES:Career Fair
ATTACH;FMTTYPE=image/png:https://ghacc.org/wp-content/uploads/2022/05/Westgate-Job-Fair-Flyer-Creole-May-26-2022.png
ORGANIZER;CN="Hurgens Dorcinvil":MAILTO:Hurgens_dorcinvil@wgresorts.com
END:VEVENT
END:VCALENDAR