BEGIN:VCALENDAR
VERSION:2.0
PRODID:-//GHACC | Greater Haitian American Chamber of Commerce - ECPv6.15.20//NONSGML v1.0//EN
CALSCALE:GREGORIAN
METHOD:PUBLISH
X-ORIGINAL-URL:https://ghacc.org
X-WR-CALDESC:Events for GHACC | Greater Haitian American Chamber of Commerce
REFRESH-INTERVAL;VALUE=DURATION:PT1H
X-Robots-Tag:noindex
X-PUBLISHED-TTL:PT1H
BEGIN:VTIMEZONE
TZID:America/New_York
BEGIN:DAYLIGHT
TZOFFSETFROM:-0500
TZOFFSETTO:-0400
TZNAME:EDT
DTSTART:20230312T070000
END:DAYLIGHT
BEGIN:STANDARD
TZOFFSETFROM:-0400
TZOFFSETTO:-0500
TZNAME:EST
DTSTART:20231105T060000
END:STANDARD
BEGIN:DAYLIGHT
TZOFFSETFROM:-0500
TZOFFSETTO:-0400
TZNAME:EDT
DTSTART:20240310T070000
END:DAYLIGHT
BEGIN:STANDARD
TZOFFSETFROM:-0400
TZOFFSETTO:-0500
TZNAME:EST
DTSTART:20241103T060000
END:STANDARD
BEGIN:DAYLIGHT
TZOFFSETFROM:-0500
TZOFFSETTO:-0400
TZNAME:EDT
DTSTART:20250309T070000
END:DAYLIGHT
BEGIN:STANDARD
TZOFFSETFROM:-0400
TZOFFSETTO:-0500
TZNAME:EST
DTSTART:20251102T060000
END:STANDARD
BEGIN:DAYLIGHT
TZOFFSETFROM:-0500
TZOFFSETTO:-0400
TZNAME:EDT
DTSTART:20260308T070000
END:DAYLIGHT
BEGIN:STANDARD
TZOFFSETFROM:-0400
TZOFFSETTO:-0500
TZNAME:EST
DTSTART:20261101T060000
END:STANDARD
END:VTIMEZONE
BEGIN:VEVENT
DTSTART;TZID=America/New_York:20250911T170000
DTEND;TZID=America/New_York:20250911T190000
DTSTAMP:20260420T081322
CREATED:20250902T155525Z
LAST-MODIFIED:20250902T155747Z
UID:10000385-1757610000-1757617200@ghacc.org
SUMMARY:Open House Spa Affair
DESCRIPTION:We’re thrilled to invite you to the Grand Open House of our Spa side ClerJo spa!\nJoin us for an evening of relaxation\, discovery\, and celebration as we open our doors to the community. Explore our space\, meet our expert team\, and learn more about the rejuvenating treatments we offer. \nWhat to expect:\n• Complimentary tours of our spa and treatment rooms\n• Live demonstrations of select services\n• Exclusive open house specials & giveaways\n• Refreshments & light bites \nBring a friend and enjoy an evening dedicated to self-care\, wellness\, and beauty. We can’t wait to welcome you!\nPlease RSVP by email: info@clerjohealth.com /phone: 407 270 7338.
URL:https://ghacc.org/events/open-house-spa-affair/
LOCATION:ClerJo Primary Care & Spa\, 885 N. Powers Dr.\, Orlando\, FL\, 32818\, United States
CATEGORIES:Community Event,Health & Wellness Event,Social Event
ATTACH;FMTTYPE=image/jpeg:https://ghacc.org/wp-content/uploads/2025/09/clerjo-spa.jpg
END:VEVENT
BEGIN:VEVENT
DTSTART;TZID=America/New_York:20240728T130000
DTEND;TZID=America/New_York:20240728T170000
DTSTAMP:20260420T081322
CREATED:20240712T180806Z
LAST-MODIFIED:20240712T180806Z
UID:10000322-1722171600-1722186000@ghacc.org
SUMMARY:Grand Opening for ClerJo Primary Care & Spa
DESCRIPTION:
URL:https://ghacc.org/events/grand-opening-for-clerjo-primary-care-spa/
LOCATION:ClerJo Primary Care & Spa\, 885 N. Powers Dr.\, Orlando\, FL\, 32818\, United States
CATEGORIES:Community Event,Member Spotlight
ATTACH;FMTTYPE=image/jpeg:https://ghacc.org/wp-content/uploads/2024/07/ClerJo-Grand-Opening-Flyer.jpg
END:VEVENT
END:VCALENDAR